BEGIN:VCALENDAR
VERSION:2.0
PRODID:-//Head Start of Yamhill County - ECPv6.15.20//NONSGML v1.0//EN
CALSCALE:GREGORIAN
METHOD:PUBLISH
X-WR-CALNAME:Head Start of Yamhill County
X-ORIGINAL-URL:https://yamhillheadstart.org
X-WR-CALDESC:Events for Head Start of Yamhill County
REFRESH-INTERVAL;VALUE=DURATION:PT1H
X-Robots-Tag:noindex
X-PUBLISHED-TTL:PT1H
BEGIN:VTIMEZONE
TZID:America/Denver
BEGIN:DAYLIGHT
TZOFFSETFROM:-0700
TZOFFSETTO:-0600
TZNAME:MDT
DTSTART:20220313T090000
END:DAYLIGHT
BEGIN:STANDARD
TZOFFSETFROM:-0600
TZOFFSETTO:-0700
TZNAME:MST
DTSTART:20221106T080000
END:STANDARD
BEGIN:DAYLIGHT
TZOFFSETFROM:-0700
TZOFFSETTO:-0600
TZNAME:MDT
DTSTART:20230312T090000
END:DAYLIGHT
BEGIN:STANDARD
TZOFFSETFROM:-0600
TZOFFSETTO:-0700
TZNAME:MST
DTSTART:20231105T080000
END:STANDARD
BEGIN:DAYLIGHT
TZOFFSETFROM:-0700
TZOFFSETTO:-0600
TZNAME:MDT
DTSTART:20240310T090000
END:DAYLIGHT
BEGIN:STANDARD
TZOFFSETFROM:-0600
TZOFFSETTO:-0700
TZNAME:MST
DTSTART:20241103T080000
END:STANDARD
END:VTIMEZONE
BEGIN:VEVENT
DTSTART;VALUE=DATE:20230608
DTEND;VALUE=DATE:20230609
DTSTAMP:20260419T215721
CREATED:20221006T175026Z
LAST-MODIFIED:20221006T175026Z
UID:2856-1686182400-1686268799@yamhillheadstart.org
SUMMARY:Last Day of Classes - Preschool Program
DESCRIPTION:
URL:https://yamhillheadstart.org/event/last-day-of-classes-preschool-program/
END:VEVENT
BEGIN:VEVENT
DTSTART;TZID=America/Denver:20230612T173000
DTEND;TZID=America/Denver:20230612T193000
DTSTAMP:20260419T215721
CREATED:20221006T173529Z
LAST-MODIFIED:20221006T173529Z
UID:2836-1686591000-1686598200@yamhillheadstart.org
SUMMARY:Policy Council Meeting
DESCRIPTION:Join Zoom Meeting \nhttps://us02web.zoom.us/j/85251801708  \nMeeting ID: 852 5180 1708 \nDial by Location \n+12532158782 (Tacoma) \n  \nÚnase a la reunión de Zoom \nhttps://us02web.zoom.us/j/85251801708  \nIdentificación de la reunión: 852 5180 1708 \nMarcar por ubicación \n+12532158782 (Tacoma)
URL:https://yamhillheadstart.org/event/policy-council-meeting-9/
END:VEVENT
BEGIN:VEVENT
DTSTART;VALUE=DATE:20230619
DTEND;VALUE=DATE:20230620
DTSTAMP:20260419T215721
CREATED:20221005T225456Z
LAST-MODIFIED:20221005T225456Z
UID:2816-1687132800-1687219199@yamhillheadstart.org
SUMMARY:Juneteenth - HSYC Closed
DESCRIPTION:
URL:https://yamhillheadstart.org/event/juneteenth-hsyc-closed/
END:VEVENT
BEGIN:VEVENT
DTSTART;TZID=America/Denver:20230622T180000
DTEND;TZID=America/Denver:20230622T200000
DTSTAMP:20260419T215721
CREATED:20221006T173948Z
LAST-MODIFIED:20221006T173948Z
UID:2852-1687456800-1687464000@yamhillheadstart.org
SUMMARY:Board of Directors Meeting
DESCRIPTION:
URL:https://yamhillheadstart.org/event/board-of-directors-meeting-8/
END:VEVENT
END:VCALENDAR