BEGIN:VCALENDAR
VERSION:2.0
PRODID:-//Head Start of Yamhill County - ECPv6.15.20//NONSGML v1.0//EN
CALSCALE:GREGORIAN
METHOD:PUBLISH
X-WR-CALNAME:Head Start of Yamhill County
X-ORIGINAL-URL:https://yamhillheadstart.org
X-WR-CALDESC:Events for Head Start of Yamhill County
REFRESH-INTERVAL;VALUE=DURATION:PT1H
X-Robots-Tag:noindex
X-PUBLISHED-TTL:PT1H
BEGIN:VTIMEZONE
TZID:America/Denver
BEGIN:DAYLIGHT
TZOFFSETFROM:-0700
TZOFFSETTO:-0600
TZNAME:MDT
DTSTART:20220313T090000
END:DAYLIGHT
BEGIN:STANDARD
TZOFFSETFROM:-0600
TZOFFSETTO:-0700
TZNAME:MST
DTSTART:20221106T080000
END:STANDARD
BEGIN:DAYLIGHT
TZOFFSETFROM:-0700
TZOFFSETTO:-0600
TZNAME:MDT
DTSTART:20230312T090000
END:DAYLIGHT
BEGIN:STANDARD
TZOFFSETFROM:-0600
TZOFFSETTO:-0700
TZNAME:MST
DTSTART:20231105T080000
END:STANDARD
BEGIN:DAYLIGHT
TZOFFSETFROM:-0700
TZOFFSETTO:-0600
TZNAME:MDT
DTSTART:20240310T090000
END:DAYLIGHT
BEGIN:STANDARD
TZOFFSETFROM:-0600
TZOFFSETTO:-0700
TZNAME:MST
DTSTART:20241103T080000
END:STANDARD
END:VTIMEZONE
BEGIN:VEVENT
DTSTART;TZID=America/Denver:20230508T173000
DTEND;TZID=America/Denver:20230508T193000
DTSTAMP:20260420T004201
CREATED:20221006T173454Z
LAST-MODIFIED:20221006T173454Z
UID:2834-1683567000-1683574200@yamhillheadstart.org
SUMMARY:Policy Council Meeting
DESCRIPTION:Join Zoom Meeting \nhttps://us02web.zoom.us/j/85251801708  \nMeeting ID: 852 5180 1708 \nDial by Location \n+12532158782 (Tacoma) \n  \nÚnase a la reunión de Zoom \nhttps://us02web.zoom.us/j/85251801708  \nIdentificación de la reunión: 852 5180 1708 \nMarcar por ubicación \n+12532158782 (Tacoma)
URL:https://yamhillheadstart.org/event/policy-council-meeting-8/
END:VEVENT
BEGIN:VEVENT
DTSTART;TZID=America/Denver:20230525T180000
DTEND;TZID=America/Denver:20230525T200000
DTSTAMP:20260420T004201
CREATED:20221006T173920Z
LAST-MODIFIED:20221006T173920Z
UID:2850-1685037600-1685044800@yamhillheadstart.org
SUMMARY:Board of Directors Meeting
DESCRIPTION:
URL:https://yamhillheadstart.org/event/board-of-directors-meeting-7/
END:VEVENT
BEGIN:VEVENT
DTSTART;VALUE=DATE:20230529
DTEND;VALUE=DATE:20230530
DTSTAMP:20260420T004201
CREATED:20221005T225418Z
LAST-MODIFIED:20221006T174908Z
UID:2814-1685318400-1685404799@yamhillheadstart.org
SUMMARY:Memorial Day - HSYC Closed
DESCRIPTION:
URL:https://yamhillheadstart.org/event/memorial-day-hsyc-closed/
END:VEVENT
END:VCALENDAR