BEGIN:VCALENDAR
VERSION:2.0
PRODID:-//Head Start of Yamhill County - ECPv6.15.20//NONSGML v1.0//EN
CALSCALE:GREGORIAN
METHOD:PUBLISH
X-WR-CALNAME:Head Start of Yamhill County
X-ORIGINAL-URL:https://yamhillheadstart.org/es
X-WR-CALDESC:Eventos para Head Start of Yamhill County
REFRESH-INTERVAL;VALUE=DURATION:PT1H
X-Robots-Tag:noindex
X-PUBLISHED-TTL:PT1H
BEGIN:VTIMEZONE
TZID:America/Denver
BEGIN:DAYLIGHT
TZOFFSETFROM:-0700
TZOFFSETTO:-0600
TZNAME:MDT
DTSTART:20220313T090000
END:DAYLIGHT
BEGIN:STANDARD
TZOFFSETFROM:-0600
TZOFFSETTO:-0700
TZNAME:MST
DTSTART:20221106T080000
END:STANDARD
BEGIN:DAYLIGHT
TZOFFSETFROM:-0700
TZOFFSETTO:-0600
TZNAME:MDT
DTSTART:20230312T090000
END:DAYLIGHT
BEGIN:STANDARD
TZOFFSETFROM:-0600
TZOFFSETTO:-0700
TZNAME:MST
DTSTART:20231105T080000
END:STANDARD
BEGIN:DAYLIGHT
TZOFFSETFROM:-0700
TZOFFSETTO:-0600
TZNAME:MDT
DTSTART:20240310T090000
END:DAYLIGHT
BEGIN:STANDARD
TZOFFSETFROM:-0600
TZOFFSETTO:-0700
TZNAME:MST
DTSTART:20241103T080000
END:STANDARD
END:VTIMEZONE
BEGIN:VEVENT
DTSTART;VALUE=DATE:20230904
DTEND;VALUE=DATE:20230905
DTSTAMP:20260420T004735
CREATED:20230817T212631Z
LAST-MODIFIED:20230817T212631Z
UID:4395-1693785600-1693871999@yamhillheadstart.org
SUMMARY:Labor Day - HSYC Closed
DESCRIPTION:
URL:https://yamhillheadstart.org/es/event/labor-day-hsyc-closed/
END:VEVENT
BEGIN:VEVENT
DTSTART;VALUE=DATE:20230905
DTEND;VALUE=DATE:20230906
DTSTAMP:20260420T004735
CREATED:20230817T211544Z
LAST-MODIFIED:20230829T213712Z
UID:4376-1693872000-1693958399@yamhillheadstart.org
SUMMARY:First Day of Pre-K Classes for Willamina/ Sheridan
DESCRIPTION:
URL:https://yamhillheadstart.org/es/event/first-day-of-class-for-sheridan-willamina/
END:VEVENT
BEGIN:VEVENT
DTSTART;TZID=America/Denver:20230905T173000
DTEND;TZID=America/Denver:20230905T190000
DTSTAMP:20260420T004735
CREATED:20230829T213122Z
LAST-MODIFIED:20230829T213325Z
UID:4559-1693935000-1693940400@yamhillheadstart.org
SUMMARY:M3 & M5 Open House
DESCRIPTION:This event is for enrolled families.
URL:https://yamhillheadstart.org/es/event/m3-m5-open-house/
LOCATION:Michael Eichman Center
END:VEVENT
BEGIN:VEVENT
DTSTART;TZID=America/Denver:20230906T173000
DTEND;TZID=America/Denver:20230906T190000
DTSTAMP:20260420T004735
CREATED:20230829T213247Z
LAST-MODIFIED:20230829T213247Z
UID:4561-1694021400-1694026800@yamhillheadstart.org
SUMMARY:M2am/ M2pm Open House
DESCRIPTION:This event is for enrolled families.
URL:https://yamhillheadstart.org/es/event/m2am-m2pm-open-house/
LOCATION:Michael Eichman Center
END:VEVENT
BEGIN:VEVENT
DTSTART;TZID=America/Denver:20230907T173000
DTEND;TZID=America/Denver:20230907T190000
DTSTAMP:20260420T004735
CREATED:20230829T213440Z
LAST-MODIFIED:20230829T213440Z
UID:4565-1694107800-1694113200@yamhillheadstart.org
SUMMARY:M1 & M4 Open House
DESCRIPTION:This event is for enrolled families.
URL:https://yamhillheadstart.org/es/event/m1-m4-open-house/
LOCATION:Michael Eichman Center
END:VEVENT
BEGIN:VEVENT
DTSTART;TZID=America/Denver:20230907T173000
DTEND;TZID=America/Denver:20230907T190000
DTSTAMP:20260420T004735
CREATED:20230829T213532Z
LAST-MODIFIED:20230829T213532Z
UID:4567-1694107800-1694113200@yamhillheadstart.org
SUMMARY:N1am/ N1pm/ N2am Open House
DESCRIPTION:This event is for enrolled families.
URL:https://yamhillheadstart.org/es/event/n1am-n1pm-n2am-open-house/
LOCATION:Newberg Center
END:VEVENT
BEGIN:VEVENT
DTSTART;VALUE=DATE:20230911
DTEND;VALUE=DATE:20230912
DTSTAMP:20260420T004735
CREATED:20230817T211845Z
LAST-MODIFIED:20230817T211845Z
UID:4379-1694390400-1694476799@yamhillheadstart.org
SUMMARY:First Day of Pre-K Classes in McMinnville and Newberg
DESCRIPTION:
URL:https://yamhillheadstart.org/es/event/first-day-of-pre-k-classes-in-mcminnville-and-newberg/
END:VEVENT
BEGIN:VEVENT
DTSTART;TZID=America/Denver:20230911T173000
DTEND;TZID=America/Denver:20230911T193000
DTSTAMP:20260420T004735
CREATED:20230817T213359Z
LAST-MODIFIED:20230817T213359Z
UID:4405-1694453400-1694460600@yamhillheadstart.org
SUMMARY:Policy Council Meeting
DESCRIPTION:Join Zoom Meeting \nhttps://us02web.zoom.us/j/85251801708  \nMeeting ID: 852 5180 1708 \nDial by Location \n+12532158782 (Tacoma) \n  \nÚnase a la reunión de Zoom \nhttps://us02web.zoom.us/j/85251801708  \nIdentificación de la reunión: 852 5180 1708 \nMarcar por ubicación \n+12532158782 (Tacoma)
URL:https://yamhillheadstart.org/es/event/policy-council-meeting-11/
END:VEVENT
BEGIN:VEVENT
DTSTART;TZID=America/Denver:20230928T180000
DTEND;TZID=America/Denver:20230928T200000
DTSTAMP:20260420T004735
CREATED:20230817T214227Z
LAST-MODIFIED:20230817T214227Z
UID:4425-1695924000-1695931200@yamhillheadstart.org
SUMMARY:Board of Directors Meeting
DESCRIPTION:
URL:https://yamhillheadstart.org/es/event/board-of-directors-meeting-10/
END:VEVENT
END:VCALENDAR